BEGIN:VCALENDAR
VERSION:2.0
PRODID:-//Town of Selma - ECPv6.2.6//NONSGML v1.0//EN
CALSCALE:GREGORIAN
METHOD:PUBLISH
X-ORIGINAL-URL:https://selma-nc.com
X-WR-CALDESC:Events for Town of Selma
REFRESH-INTERVAL;VALUE=DURATION:PT1H
X-Robots-Tag:noindex
X-PUBLISHED-TTL:PT1H
BEGIN:VTIMEZONE
TZID:America/New_York
BEGIN:DAYLIGHT
TZOFFSETFROM:-0500
TZOFFSETTO:-0400
TZNAME:EDT
DTSTART:20210314T070000
END:DAYLIGHT
BEGIN:STANDARD
TZOFFSETFROM:-0400
TZOFFSETTO:-0500
TZNAME:EST
DTSTART:20211107T060000
END:STANDARD
END:VTIMEZONE
BEGIN:VEVENT
DTSTART;TZID=America/New_York:20211109T180000
DTEND;TZID=America/New_York:20211109T190000
DTSTAMP:20260419T194754
CREATED:20201201T135137Z
LAST-MODIFIED:20201201T135137Z
UID:2485-1636480800-1636484400@selma-nc.com
SUMMARY:Town Council Meeting
DESCRIPTION:Town Council Meeting – Jernigan Building
URL:https://selma-nc.com/event/town-council-meeting-2021-11-09/
LOCATION:Jernigan Building\, 110 East Anderson Street\, Selma\, 27576\, United States
CATEGORIES:Town Meeting
END:VEVENT
BEGIN:VEVENT
DTSTART;TZID=America/New_York:20211120T103000
DTEND;TZID=America/New_York:20211120T183000
DTSTAMP:20260419T194754
CREATED:20210915T214152Z
LAST-MODIFIED:20211020T130737Z
UID:5354-1637404200-1637433000@selma-nc.com
SUMMARY:Selma's Holiday Village Market
DESCRIPTION:1st Announcement\nDon’t miss this Holiday Event! Help us kick off the Season with a fun filled day of events for all ages!
URL:https://selma-nc.com/event/selmas-holiday-village-market/
ATTACH;FMTTYPE=application/pdf:https://selma-nc.com/wp-content/uploads/2021/09/1st-announcement.pdf
END:VEVENT
BEGIN:VEVENT
DTSTART;VALUE=DATE:20211125
DTEND;VALUE=DATE:20211127
DTSTAMP:20260419T194754
CREATED:20211020T201503Z
LAST-MODIFIED:20221121T201409Z
UID:5632-1637798400-1637971199@selma-nc.com
SUMMARY:Thanksgiving Holiday
DESCRIPTION:Town of Selma offices will be closed for the Thanksgiving Holiday on Thursday\, November 24th\, and Friday\, November 25th. \nOffices will re-open at 8:00 am on Monday\, November 28th. \nThank you.
URL:https://selma-nc.com/event/thanksgiving-holiday/
END:VEVENT
BEGIN:VEVENT
DTSTART;TZID=America/New_York:20211127T090000
DTEND;TZID=America/New_York:20211127T130000
DTSTAMP:20260419T194754
CREATED:20211020T200810Z
LAST-MODIFIED:20211020T200810Z
UID:5621-1638003600-1638018000@selma-nc.com
SUMMARY:Shop Small Selma
DESCRIPTION:Support Small businesses in Selma by shopping our antiques\, retail and pop-up vendors along Raiford\, Waddell\, Anderson and Railroad streets.\nThe Max G. Creech Historic Museum and the Big Red Caboose at Union Depot will be open for tours and information as well.\nNew this year is the Pet Parade that will be held at 11:00 am in front of Town Hall located at 114 N. Raiford Street\, Selma\, NC. Dress your fur-baby in the finest of holiday garb and parade on North Raiford Street. \nThis family-friendly event encourages pet owners to bring their fur-babies for some shopping downtown and show off their best holiday garb. \nThe parade starts at 11 am and will start at Town Hall (114 N. Raiford Street) and will travel down the length of Raiford Street via the East sidewalk and return back to Town Hall via the West sidewalk of Raiford Street. \nPets must be on leash or in carrier. Please clean up after pet. \nJoin in all the fun and don’t miss Shop Small Selma! \nFor questions and more information\, please call Selma Parks and Recreation at 919-975-1411 or email mdooley@selma-nc.com
URL:https://selma-nc.com/event/shop-small-selma/
END:VEVENT
BEGIN:VEVENT
DTSTART;TZID=America/New_York:20211130T180000
DTEND;TZID=America/New_York:20211130T200000
DTSTAMP:20260419T194754
CREATED:20211020T205249Z
LAST-MODIFIED:20211020T205328Z
UID:5643-1638295200-1638302400@selma-nc.com
SUMMARY:Selma Christmas Parade and Tree Lighting
DESCRIPTION:The Selma Christmas Parade and Tree Lighting is the perfect way to begin the holiday season and create a fun tradition with family and friends.\nWatch as the parade makes its way down Raiford Street through the heart of Selma. See parade entries all lit up with twinkling lights and of course\, watch for that most important visitor of all — Santa Claus!!\nSelma will be hopping with excitement as the Christmas Season begins on this very special night.\n6:00 pm – Entertainment begins at Town Hall – 114 N. Raiford Street\n6:45 p.m. – Tree Lighting Ceremony\n7:00 p.m. The ever-popular Christmas Parade begins!\nThe parade will begin at Selma Elementary School and make its way through town and continue the entire length of Raiford Street and then turn up Railroad Street and end once again at Selma Elementary.\nThe town will be lit up and the spirit will shine through all the lights and music and fanfare for the most anticipated visit from Santa at the end of the parade.\nImmediately following the Parade\, stay for the Fireworks Display (approx. 7:45pm)\nDate: Tuesday\, November 30\, 2021\nEntertainment Start Time: 6:00 p.m.\nParade Start Time: 7:00 p.m.\nFireworks Start Time: 7:45 p.m. – Immediately Following Parade\nParade Line Up: 6:00 p.m. at Selma Elementary School\nParade Entry Fee: $25 for Businesses and FREE for all others.\nParade Entry Deadline: Monday\, November 22\, 2021\nRegister for Parade Here:\nhttps://selma.recdesk.com/Community/Program/Detail…\nPlease call Selma Parks and Recreation at 919-975-1411 for complete information
URL:https://selma-nc.com/event/selma-christmas-parade-and-tree-lighting/
END:VEVENT
END:VCALENDAR